Workbook

Sheet Information
A1: RANIS Enterprise Solutions
A2: ERP Project Evaluation
A3: Date | B3: February 14, 2020
A5: Instructions: | B5: Ensure that only cells with Blue Fill are filled with manual data. The selection committee will collectively establish the required minimum percentage of the
B6: maximum technical proposal score that must be obtain to review a bidder's cash proposal. Each individual evaluator will complete an individual evaluation
B7: tab. All other cells will populate automatically.
A9: Maximum Technical Proposal Score | E9: 80
A10: Required Minimum % of Technical Proposal Score | E10: 0.75
A11: Required Minimum Technical Proposal Score | E11: =E9*E10 -> 60
A13: Bidder Names | D13: Scoring Guide | I13: Additional Information
A14: 1 | B14: Amtech Inc | D14: Score | E14: Type | F14: Description | H14: In comparison to the lowest bid, bidders
A15: 2 | B15: MIT Consulting | D15: 5 | E15: Excellent | F15: Proposal exceeds all minimum specifiations. The submission shows that the firm has superior experience. | H15: will receive the following scores:
A16: 3 | B16: Agile Co. | H16: Score | I16: Comparison to the lowest bid
A17: 4 | B17: InfoTech Solutions | D17: 4 | E17: Very Good | F17: Proposal meets all minimum requirements. The submission has information showing relevant experience | H17: 5 | I17: Lowest bid
A18: 5 | B18: Company 5 | H18: 4 | I18: Within 5%
A19: 6 | B19: Company 6 | D19: 3 | E19: Satisfactory | F19: Proposal meets all minimum requirements. All information requested is provided | H19: 3 | I19: Within 10%
A20: 7 | B20: Company 7 | H20: 2 | I20: Within 15%
A21: 8 | B21: Company 8 | D21: 2 | E21: Marginal | F21: Proposal meets a some of the requirements | H21: 1 | I21: Within 20%
A22: 9 | B22: Company 9 | D22: 1 | E22: Unsatisfactory | F22: Proposal does not meet the requirements | H22: 0 | I22: More than 20%
A23: 10 | B23: Company 10 | D23: 0 | E23: No Submission | F23: Proposal does not address the requirements

Sheet Results
A1: RANIS Enterprise Solutions
A2: ERP Project Evaluation
A3: Date | B3: =Information!B3 -> February 14, 2020
A5: Instructions: | B5: If the information for a bidder's Technical Proposal populates this worksheet, open the bidder's corresponding cash proposal.
B6: Enter the score for the bidder in the blue filled cell. Review the highest scored bid with the Selection Committee.
C9: Bidder With Highest Score | D9: {=_xlfn.IFS(D10=F27,E13,D10=H27,G13,D10=J27,I13,D10=L27,K13,D10=N27,M13,D10=P27,O13,D10=R27,Q13,D10=T27,S13,D10=V27,U13,D10=X27,W13,D10=#REF!,#REF!)} -> MIT Consulting
C10: Highest Overall Score | D10: =MAX(F27:X27) -> 77.6
E13: =IFERROR(IF('Summary of Evaluations'!E18="YES",'Summary of Evaluations'!D4," ")," ") -> Amtech Inc | G13: =IFERROR(IF('Summary of Evaluations'!G18="YES",'Summary of Evaluations'!F4," ")," ") -> MIT Consulting | I13: =IFERROR(IF('Summary of Evaluations'!I18="YES",'Summary of Evaluations'!H4," ")," ") -> Agile Co. | K13: =IFERROR(IF('Summary of Evaluations'!K18="YES",'Summary of Evaluations'!J4," ")," ") -> InfoTech Solutions | M13: =IFERROR(IF('Summary of Evaluations'!M18="YES",'Summary of Evaluations'!L4," ")," ") | O13: =IFERROR(IF('Summary of Evaluations'!O18="YES",'Summary of Evaluations'!N4," ")," ") | Q13: =IFERROR(IF('Summary of Evaluations'!Q18="YES",'Summary of Evaluations'!P4," ")," ") | S13: =IFERROR(IF('Summary of Evaluations'!S18="YES",'Summary of Evaluations'!R4," ")," ") | U13: =IFERROR(IF('Summary of Evaluations'!U18="YES",'Summary of Evaluations'!T4," ")," ") | W13: =IFERROR(IF('Summary of Evaluations'!W18="YES",'Summary of Evaluations'!V4," ")," ")
A14: Envelope | B14: Category | C14: Evaluation Criteria | D14: Weight | E14: Score | F14: Weighted Score | G14: Score | H14: Weighted Score | I14: Score | J14: Weighted Score | K14: Score | L14: Weighted Score | M14: Score | N14: Weighted Score | O14: Score | P14: Weighted Score | Q14: Score | R14: Weighted Score | S14: Score | T14: Weighted Score | U14: Score | V14: Weighted Score | W14: Score | X14: Weighted Score
A16: Technical Proposal | B16: Company | C16: Company Market Space, Reputation and Stability | D16: 10 | F16: =IFERROR(IF($E$13<>" ",'Summary of Evaluations'!E6," "),0) -> 8 | H16: =IFERROR(IF($G$13<>" ",'Summary of Evaluations'!G6," "),0) -> 7.2 | J16: =IFERROR(IF($I$13<>" ",'Summary of Evaluations'!I6," "),0) -> 8.4 | L16: =IFERROR(IF($K$13<>" ",'Summary of Evaluations'!K6," "),0) -> 8 | N16: =IFERROR(IF($M$13<>" ",'Summary of Evaluations'!M6," "),) | P16: =IFERROR(IF($O$13<>" ",'Summary of Evaluations'!O6," "),0) | R16: =IFERROR(IF($Q$13<>" ",'Summary of Evaluations'!Q6," "), 0) | T16: =IFERROR(IF($S$13<>" ",'Summary of Evaluations'!S6," "),0) | V16: =IFERROR(IF($U$13<>" ",'Summary of Evaluations'!U6," "),0) | X16: =IFERROR(IF($W$13<>" ",'Summary of Evaluations'!W6," "),0)
B17: Project Team | C17: Senior Professionals/ Project Manager/ Technical Staff | D17: 5 | F17: =IFERROR(IF($E$13<>" ",'Summary of Evaluations'!E7," "),0) -> 7.2 | H17: =IFERROR(IF($G$13<>" ",'Summary of Evaluations'!G7," "),0) -> 8.4 | J17: =IFERROR(IF($I$13<>" ",'Summary of Evaluations'!I7," "),0) -> 9.2 | L17: =IFERROR(IF($K$13<>" ",'Summary of Evaluations'!K7," "),0) -> 7.6 | N17: =IFERROR(IF($M$13<>" ",'Summary of Evaluations'!M7," "),) | P17: =IFERROR(IF($O$13<>" ",'Summary of Evaluations'!O7," "),0) | R17: =IFERROR(IF($Q$13<>" ",'Summary of Evaluations'!Q7," "), 0) | T17: =IFERROR(IF($S$13<>" ",'Summary of Evaluations'!S7," "),0) | V17: =IFERROR(IF($U$13<>" ",'Summary of Evaluations'!U7," "),0) | X17: =IFERROR(IF($W$13<>" ",'Summary of Evaluations'!W7," "),0)
C18: Experience on similar projects | D18: 5 | F18: =IFERROR(IF($E$13<>" ",'Summary of Evaluations'!E8," "),0) -> 7.2 | H18: =IFERROR(IF($G$13<>" ",'Summary of Evaluations'!G8," "),0) -> 8.8 | J18: =IFERROR(IF($I$13<>" ",'Summary of Evaluations'!I8," "),0) -> 8.8 | L18: =IFERROR(IF($K$13<>" ",'Summary of Evaluations'!K8," "),0) -> 6.8 | N18: =IFERROR(IF($M$13<>" ",'Summary of Evaluations'!M8," "),) | P18: =IFERROR(IF($O$13<>" ",'Summary of Evaluations'!O8," "),0) | R18: =IFERROR(IF($Q$13<>" ",'Summary of Evaluations'!Q8," "), 0) | T18: =IFERROR(IF($S$13<>" ",'Summary of Evaluations'!S8," "),0) | V18: =IFERROR(IF($U$13<>" ",'Summary of Evaluations'!U8," "),0) | X18: =IFERROR(IF($W$13<>" ",'Summary of Evaluations'!W8," "),0)
B19: Requirements | C19: Features and Technical Requirements (Functional and Non-Functional Requirements) | D19: 20 | F19: =IFERROR(IF($E$13<>" ",'Summary of Evaluations'!E9," "),0) -> 7.6 | H19: =IFERROR(IF($G$13<>" ",'Summary of Evaluations'!G9," "),0) -> 9.6 | J19: =IFERROR(IF($I$13<>" ",'Summary of Evaluations'!I9," "),0) -> 8.4 | L19: =IFERROR(IF($K$13<>" ",'Summary of Evaluations'!K9," "),0) -> 7.6 | N19: =IFERROR(IF($M$13<>" ",'Summary of Evaluations'!M9," "),) | P19: =IFERROR(IF($O$13<>" ",'Summary of Evaluations'!O9," "),0) | R19: =IFERROR(IF($Q$13<>" ",'Summary of Evaluations'!Q9," "), 0) | T19: =IFERROR(IF($S$13<>" ",'Summary of Evaluations'!S9," "),0) | V19: =IFERROR(IF($U$13<>" ",'Summary of Evaluations'!U9," "),0) | X19: =IFERROR(IF($W$13<>" ",'Summary of Evaluations'!W9," "),0)
C20: Use cases | D20: 10 | F20: =IFERROR(IF($E$13<>" ",'Summary of Evaluations'!E10," "),0) -> 8 | H20: =IFERROR(IF($G$13<>" ",'Summary of Evaluations'!G10," "),0) -> 8.4 | J20: =IFERROR(IF($I$13<>" ",'Summary of Evaluations'!I10," "),0) -> 9.6 | L20: =IFERROR(IF($K$13<>" ",'Summary of Evaluations'!K10," "),0) -> 7.2 | N20: =IFERROR(IF($M$13<>" ",'Summary of Evaluations'!M10," "),) | P20: =IFERROR(IF($O$13<>" ",'Summary of Evaluations'!O10," "),0) | R20: =IFERROR(IF($Q$13<>" ",'Summary of Evaluations'!Q10," "), 0) | T20: =IFERROR(IF($S$13<>" ",'Summary of Evaluations'!S10," "),0) | V20: =IFERROR(IF($U$13<>" ",'Summary of Evaluations'!U10," "),0) | X20: =IFERROR(IF($W$13<>" ",'Summary of Evaluations'!W10," "),0)
C21: Accessibility Coimpliance | D21: 5 | F21: =IFERROR(IF($E$13<>" ",'Summary of Evaluations'!E11," "),0) -> 8 | H21: =IFERROR(IF($G$13<>" ",'Summary of Evaluations'!G11," "),0) -> 8.4 | J21: =IFERROR(IF($I$13<>" ",'Summary of Evaluations'!I11," "),0) -> 8 | L21: =IFERROR(IF($K$13<>" ",'Summary of Evaluations'!K11," "),0) -> 7.6 | N21: =IFERROR(IF($M$13<>" ",'Summary of Evaluations'!M11," "),) | P21: =IFERROR(IF($O$13<>" ",'Summary of Evaluations'!O11," "),0) | R21: =IFERROR(IF($Q$13<>" ",'Summary of Evaluations'!Q11," "), 0) | T21: =IFERROR(IF($S$13<>" ",'Summary of Evaluations'!S11," "),0) | V21: =IFERROR(IF($U$13<>" ",'Summary of Evaluations'!U11," "),0) | X21: =IFERROR(IF($W$13<>" ",'Summary of Evaluations'!W11," "),0)
C22: Support and Services | D22: 10 | F22: =IFERROR(IF($E$13<>" ",'Summary of Evaluations'!E12," "),0) -> 8.4 | H22: =IFERROR(IF($G$13<>" ",'Summary of Evaluations'!G12," "),0) -> 8.8 | J22: =IFERROR(IF($I$13<>" ",'Summary of Evaluations'!I12," "),0) -> 8 | L22: =IFERROR(IF($K$13<>" ",'Summary of Evaluations'!K12," "),0) -> 6.4 | N22: =IFERROR(IF($M$13<>" ",'Summary of Evaluations'!M12," "),) | P22: =IFERROR(IF($O$13<>" ",'Summary of Evaluations'!O12," "),0) | R22: =IFERROR(IF($Q$13<>" ",'Summary of Evaluations'!Q12," "), 0) | T22: =IFERROR(IF($S$13<>" ",'Summary of Evaluations'!S12," "),0) | V22: =IFERROR(IF($U$13<>" ",'Summary of Evaluations'!U12," "),0) | X22: =IFERROR(IF($W$13<>" ",'Summary of Evaluations'!W12," "),0)
C23: Data Security and Privacy Protection | D23: 10 | F23: =IFERROR(IF($E$13<>" ",'Summary of Evaluations'!E13," "),0) -> 7.6 | H23: =IFERROR(IF($G$13<>" ",'Summary of Evaluations'!G13," "),0) -> 9.6 | J23: =IFERROR(IF($I$13<>" ",'Summary of Evaluations'!I13," "),0) -> 8.4 | L23: =IFERROR(IF($K$13<>" ",'Summary of Evaluations'!K13," "),0) -> 7.2 | N23: =IFERROR(IF($M$13<>" ",'Summary of Evaluations'!M13," "),) | P23: =IFERROR(IF($O$13<>" ",'Summary of Evaluations'!O13," "),0) | R23: =IFERROR(IF($Q$13<>" ",'Summary of Evaluations'!Q13," "), 0) | T23: =IFERROR(IF($S$13<>" ",'Summary of Evaluations'!S13," "),0) | V23: =IFERROR(IF($U$13<>" ",'Summary of Evaluations'!U13," "),0) | X23: =IFERROR(IF($W$13<>" ",'Summary of Evaluations'!W13," "),0)
C24: Environmental Plan | D24: 5 | F24: =IFERROR(IF($E$13<>" ",'Summary of Evaluations'!E14," "),0) -> 7.2 | H24: =IFERROR(IF($G$13<>" ",'Summary of Evaluations'!G14," "),0) -> 8.4 | J24: =IFERROR(IF($I$13<>" ",'Summary of Evaluations'!I14," "),0) -> 7.6 | L24: =IFERROR(IF($K$13<>" ",'Summary of Evaluations'!K14," "),0) -> 8.4 | N24: =IFERROR(IF($M$13<>" ",'Summary of Evaluations'!M14," "),) | P24: =IFERROR(IF($O$13<>" ",'Summary of Evaluations'!O14," "),0) | R24: =IFERROR(IF($Q$13<>" ",'Summary of Evaluations'!Q14," "), 0) | T24: =IFERROR(IF($S$13<>" ",'Summary of Evaluations'!S14," "),0) | V24: =IFERROR(IF($U$13<>" ",'Summary of Evaluations'!U14," "),0) | X24: =IFERROR(IF($W$13<>" ",'Summary of Evaluations'!W14," "),0)
A25: Cost Proposal | B25: Comparison to Lowest Bid | C25: Lowest bid – Receives a score of 5 Within 5% – Receives a score of 4 Within 10% – Receives a score of 3 Within 15% – Receives a score of 2 Within 20% – Receives a score of 1 More than 20% - Receives a score of 0 | D25: 20 | F25: =+(E25/5*100)*($D$25/100) -> 0 | H25: =+(G25/5*100)*($D$25/100) -> 0 | J25: =+(I25/5*100)*($D$25/100) -> 0 | L25: =+(K25/5*100)*($D$25/100) -> 0 | N25: =+(M25/5*100)*($D$25/100) -> 0 | P25: =+(O25/5*100)*($D$25/100) -> 0 | R25: =+(Q25/5*100)*($D$25/100) -> 0 | T25: =+(S25/5*100)*($D$25/100) -> 0 | V25: =+(U25/5*100)*($D$25/100) -> 0 | X25: =+(W25/5*100)*($D$25/100) -> 0
C27: Total Score | F27: =IFERROR(SUM(F16:F25),0) -> 69.2 | H27: =IFERROR(SUM(H16:H25),0) -> 77.6 | J27: =IFERROR(SUM(J16:J25),0) -> 76.4 | L27: =IFERROR(SUM(L16:L25),0) -> 66.8 | N27: =IFERROR(SUM(N16:N25),0) -> 0 | P27: =IFERROR(SUM(P16:P25),0) -> 0 | R27: =IFERROR(SUM(R16:R25),0) -> 0 | T27: =IFERROR(SUM(T16:T25),0) -> 0 | V27: =IFERROR(SUM(V16:V25),0) -> 0 | X27: =IFERROR(SUM(X16:X25),0) -> 0

Sheet Summary of Evaluations
A1: RANIS Enterprise Solutions
A2: ERP Project Evaluation
A3: Date | B3: =Information!B3 -> February 14, 2020 | D3: Bidder Name
D4: =Information!B14 -> Amtech Inc | F4: =Information!B15 -> MIT Consulting | H4: =Information!B16 -> Agile Co. | J4: =Information!B17 -> InfoTech Solutions | L4: =Information!B18 -> Company 5 | N4: =Information!B19 -> Company 6 | P4: =Information!B20 -> Company 7 | R4: =Information!B21 -> Company 8 | T4: =Information!B22 -> Company 9 | V4: =Information!B23 -> Company 10
A5: Category | B5: Evaluation Criteria | C5: Weight | D5: Avg. Score | E5: Weighted Score | F5: Avg. Score | G5: Weighted Score | H5: Avg. Score | I5: Weighted Score | J5: Avg. Score | K5: Weighted Score | L5: Avg. Score | M5: Weighted Score | N5: Avg. Score | O5: Weighted Score | P5: Avg. Score | Q5: Weighted Score | R5: Avg. Score | S5: Weighted Score | T5: Avg. Score | U5: Weighted Score | V5: Avg. Score | W5: Weighted Score
A6: Company | B6: Company Market Space, Reputation and Stability | C6: 10 | D6: =IFERROR(AVERAGE('Evaluator #1'!C8,'Evaluator #2'!C8,'Evaluator #3'!C8,'Evaluator #4'!C8,'Evaluator #5'!C8),0) -> 4 | E6: =(D6/5*100)*($C$6/100) -> 8 | F6: =IFERROR(AVERAGE('Evaluator #1'!D8,'Evaluator #2'!D8,'Evaluator #3'!D8,'Evaluator #4'!D8,'Evaluator #5'!D8),0) -> 3.6 | G6: =(F6/5*100)*($C$6/100) -> 7.2 | H6: =IFERROR(AVERAGE('Evaluator #1'!E8,'Evaluator #2'!E8,'Evaluator #3'!E8,'Evaluator #4'!E8,'Evaluator #5'!E8),0) -> 4.2 | I6: =(H6/5*100)*($C$6/100) -> 8.4 | J6: =IFERROR(AVERAGE('Evaluator #1'!F8,'Evaluator #2'!F8,'Evaluator #3'!F8,'Evaluator #4'!F8,'Evaluator #5'!F8),0) -> 4 | K6: =(J6/5*100)*($C$6/100) -> 8 | L6: =IFERROR(AVERAGE('Evaluator #1'!G8,'Evaluator #2'!G8,'Evaluator #3'!G8,'Evaluator #4'!G8,'Evaluator #5'!G8),0) -> 0 | M6: =(L6/5*100)*($C$6/100) -> 0 | N6: =IFERROR(AVERAGE('Evaluator #1'!H8,'Evaluator #2'!H8,'Evaluator #3'!H8,'Evaluator #4'!H8,'Evaluator #5'!H8),0) -> 0 | O6: =(N6/5*100)*($C$6/100) -> 0 | P6: =IFERROR(AVERAGE('Evaluator #1'!I8,'Evaluator #2'!I8,'Evaluator #3'!I8,'Evaluator #4'!I8,'Evaluator #5'!I8),0) -> 0 | Q6: =(P6/5*100)*($C$6/100) -> 0 | R6: =IFERROR(AVERAGE('Evaluator #1'!J8,'Evaluator #2'!J8,'Evaluator #3'!J8,'Evaluator #4'!J8,'Evaluator #5'!J8),0) -> 0 | S6: =(R6/5*100)*($C$6/100) -> 0 | T6: =IFERROR(AVERAGE('Evaluator #1'!K8,'Evaluator #2'!K8,'Evaluator #3'!K8,'Evaluator #4'!K8,'Evaluator #5'!K8),0) -> 0 | U6: =(T6/5*100)*($C$6/100) -> 0 | V6: =IFERROR(AVERAGE('Evaluator #1'!L8,'Evaluator #2'!L8,'Evaluator #3'!L8,'Evaluator #4'!L8,'Evaluator #5'!L8),0) -> 0 | W6: =(V6/5*100)*($C$6/100) -> 0
A7: Project Team | B7: Senior Professionals/ Project Manager/ Technical Staff | C7: 5 | D7: =IFERROR(AVERAGE('Evaluator #1'!C9,'Evaluator #2'!C9,'Evaluator #3'!C9,'Evaluator #4'!C9,'Evaluator #5'!C9),0) -> 3.6 | E7: =(D7/5*100)*($C$6/100) -> 7.2 | F7: =IFERROR(AVERAGE('Evaluator #1'!D9,'Evaluator #2'!D9,'Evaluator #3'!D9,'Evaluator #4'!D9,'Evaluator #5'!D9),0) -> 4.2 | G7: =(F7/5*100)*($C$6/100) -> 8.4 | H7: =IFERROR(AVERAGE('Evaluator #1'!E9,'Evaluator #2'!E9,'Evaluator #3'!E9,'Evaluator #4'!E9,'Evaluator #5'!E9),0) -> 4.6 | I7: =(H7/5*100)*($C$6/100) -> 9.2 | J7: =IFERROR(AVERAGE('Evaluator #1'!F9,'Evaluator #2'!F9,'Evaluator #3'!F9,'Evaluator #4'!F9,'Evaluator #5'!F9),0) -> 3.8 | K7: =(J7/5*100)*($C$6/100) -> 7.6 | L7: =IFERROR(AVERAGE('Evaluator #1'!G9,'Evaluator #2'!G9,'Evaluator #3'!G9,'Evaluator #4'!G9,'Evaluator #5'!G9),0) -> 0 | M7: =(L7/5*100)*($C$6/100) -> 0 | N7: =IFERROR(AVERAGE('Evaluator #1'!H9,'Evaluator #2'!H9,'Evaluator #3'!H9,'Evaluator #4'!H9,'Evaluator #5'!H9),0) -> 0 | O7: =(N7/5*100)*($C$6/100) -> 0 | P7: =IFERROR(AVERAGE('Evaluator #1'!I9,'Evaluator #2'!I9,'Evaluator #3'!I9,'Evaluator #4'!I9,'Evaluator #5'!I9),0) -> 0 | Q7: =(P7/5*100)*($C$6/100) -> 0 | R7: =IFERROR(AVERAGE('Evaluator #1'!J9,'Evaluator #2'!J9,'Evaluator #3'!J9,'Evaluator #4'!J9,'Evaluator #5'!J9),0) -> 0 | S7: =(R7/5*100)*($C$6/100) -> 0 | T7: =IFERROR(AVERAGE('Evaluator #1'!K9,'Evaluator #2'!K9,'Evaluator #3'!K9,'Evaluator #4'!K9,'Evaluator #5'!K9),0) -> 0 | U7: =(T7/5*100)*($C$6/100) -> 0 | V7: =IFERROR(AVERAGE('Evaluator #1'!L9,'Evaluator #2'!L9,'Evaluator #3'!L9,'Evaluator #4'!L9,'Evaluator #5'!L9),0) -> 0 | W7: =(V7/5*100)*($C$6/100) -> 0
B8: Experience on similar projects | C8: 5 | D8: =IFERROR(AVERAGE('Evaluator #1'!C10,'Evaluator #2'!C10,'Evaluator #3'!C10,'Evaluator #4'!C10,'Evaluator #5'!C10),0) -> 3.6 | E8: =(D8/5*100)*($C$6/100) -> 7.2 | F8: =IFERROR(AVERAGE('Evaluator #1'!D10,'Evaluator #2'!D10,'Evaluator #3'!D10,'Evaluator #4'!D10,'Evaluator #5'!D10),0) -> 4.4 | G8: =(F8/5*100)*($C$6/100) -> 8.8 | H8: =IFERROR(AVERAGE('Evaluator #1'!E10,'Evaluator #2'!E10,'Evaluator #3'!E10,'Evaluator #4'!E10,'Evaluator #5'!E10),0) -> 4.4 | I8: =(H8/5*100)*($C$6/100) -> 8.8 | J8: =IFERROR(AVERAGE('Evaluator #1'!F10,'Evaluator #2'!F10,'Evaluator #3'!F10,'Evaluator #4'!F10,'Evaluator #5'!F10),0) -> 3.4 | K8: =(J8/5*100)*($C$6/100) -> 6.8 | L8: =IFERROR(AVERAGE('Evaluator #1'!G10,'Evaluator #2'!G10,'Evaluator #3'!G10,'Evaluator #4'!G10,'Evaluator #5'!G10),0) -> 0 | M8: =(L8/5*100)*($C$6/100) -> 0 | N8: =IFERROR(AVERAGE('Evaluator #1'!H10,'Evaluator #2'!H10,'Evaluator #3'!H10,'Evaluator #4'!H10,'Evaluator #5'!H10),0) -> 0 | O8: =(N8/5*100)*($C$6/100) -> 0 | P8: =IFERROR(AVERAGE('Evaluator #1'!I10,'Evaluator #2'!I10,'Evaluator #3'!I10,'Evaluator #4'!I10,'Evaluator #5'!I10),0) -> 0 | Q8: =(P8/5*100)*($C$6/100) -> 0 | R8: =IFERROR(AVERAGE('Evaluator #1'!J10,'Evaluator #2'!J10,'Evaluator #3'!J10,'Evaluator #4'!J10,'Evaluator #5'!J10),0) -> 0 | S8: =(R8/5*100)*($C$6/100) -> 0 | T8: =IFERROR(AVERAGE('Evaluator #1'!K10,'Evaluator #2'!K10,'Evaluator #3'!K10,'Evaluator #4'!K10,'Evaluator #5'!K10),0) -> 0 | U8: =(T8/5*100)*($C$6/100) -> 0 | V8: =IFERROR(AVERAGE('Evaluator #1'!L10,'Evaluator #2'!L10,'Evaluator #3'!L10,'Evaluator #4'!L10,'Evaluator #5'!L10),0) -> 0 | W8: =(V8/5*100)*($C$6/100) -> 0
A9: Requirements | B9: Features and Technical Requirements (Functional and Non-Functional Requirements) | C9: 20 | D9: =IFERROR(AVERAGE('Evaluator #1'!C11,'Evaluator #2'!C11,'Evaluator #3'!C11,'Evaluator #4'!C11,'Evaluator #5'!C11),0) -> 3.8 | E9: =(D9/5*100)*($C$6/100) -> 7.6 | F9: =IFERROR(AVERAGE('Evaluator #1'!D11,'Evaluator #2'!D11,'Evaluator #3'!D11,'Evaluator #4'!D11,'Evaluator #5'!D11),0) -> 4.8 | G9: =(F9/5*100)*($C$6/100) -> 9.6 | H9: =IFERROR(AVERAGE('Evaluator #1'!E11,'Evaluator #2'!E11,'Evaluator #3'!E11,'Evaluator #4'!E11,'Evaluator #5'!E11),0) -> 4.2 | I9: =(H9/5*100)*($C$6/100) -> 8.4 | J9: =IFERROR(AVERAGE('Evaluator #1'!F11,'Evaluator #2'!F11,'Evaluator #3'!F11,'Evaluator #4'!F11,'Evaluator #5'!F11),0) -> 3.8 | K9: =(J9/5*100)*($C$6/100) -> 7.6 | L9: =IFERROR(AVERAGE('Evaluator #1'!G11,'Evaluator #2'!G11,'Evaluator #3'!G11,'Evaluator #4'!G11,'Evaluator #5'!G11),0) -> 0 | M9: =(L9/5*100)*($C$6/100) -> 0 | N9: =IFERROR(AVERAGE('Evaluator #1'!H11,'Evaluator #2'!H11,'Evaluator #3'!H11,'Evaluator #4'!H11,'Evaluator #5'!H11),0) -> 0 | O9: =(N9/5*100)*($C$6/100) -> 0 | P9: =IFERROR(AVERAGE('Evaluator #1'!I11,'Evaluator #2'!I11,'Evaluator #3'!I11,'Evaluator #4'!I11,'Evaluator #5'!I11),0) -> 0 | Q9: =(P9/5*100)*($C$6/100) -> 0 | R9: =IFERROR(AVERAGE('Evaluator #1'!J11,'Evaluator #2'!J11,'Evaluator #3'!J11,'Evaluator #4'!J11,'Evaluator #5'!J11),0) -> 0 | S9: =(R9/5*100)*($C$6/100) -> 0 | T9: =IFERROR(AVERAGE('Evaluator #1'!K11,'Evaluator #2'!K11,'Evaluator #3'!K11,'Evaluator #4'!K11,'Evaluator #5'!K11),0) -> 0 | U9: =(T9/5*100)*($C$6/100) -> 0 | V9: =IFERROR(AVERAGE('Evaluator #1'!L11,'Evaluator #2'!L11,'Evaluator #3'!L11,'Evaluator #4'!L11,'Evaluator #5'!L11),0) -> 0 | W9: =(V9/5*100)*($C$6/100) -> 0
B10: Use cases | C10: 10 | D10: =IFERROR(AVERAGE('Evaluator #1'!C12,'Evaluator #2'!C12,'Evaluator #3'!C12,'Evaluator #4'!C12,'Evaluator #5'!C12),0) -> 4 | E10: =(D10/5*100)*($C$6/100) -> 8 | F10: =IFERROR(AVERAGE('Evaluator #1'!D12,'Evaluator #2'!D12,'Evaluator #3'!D12,'Evaluator #4'!D12,'Evaluator #5'!D12),0) -> 4.2 | G10: =(F10/5*100)*($C$6/100) -> 8.4 | H10: =IFERROR(AVERAGE('Evaluator #1'!E12,'Evaluator #2'!E12,'Evaluator #3'!E12,'Evaluator #4'!E12,'Evaluator #5'!E12),0) -> 4.8 | I10: =(H10/5*100)*($C$6/100) -> 9.6 | J10: =IFERROR(AVERAGE('Evaluator #1'!F12,'Evaluator #2'!F12,'Evaluator #3'!F12,'Evaluator #4'!F12,'Evaluator #5'!F12),0) -> 3.6 | K10: =(J10/5*100)*($C$6/100) -> 7.2 | L10: =IFERROR(AVERAGE('Evaluator #1'!G12,'Evaluator #2'!G12,'Evaluator #3'!G12,'Evaluator #4'!G12,'Evaluator #5'!G12),0) -> 0 | M10: =(L10/5*100)*($C$6/100) -> 0 | N10: =IFERROR(AVERAGE('Evaluator #1'!H12,'Evaluator #2'!H12,'Evaluator #3'!H12,'Evaluator #4'!H12,'Evaluator #5'!H12),0) -> 0 | O10: =(N10/5*100)*($C$6/100) -> 0 | P10: =IFERROR(AVERAGE('Evaluator #1'!I12,'Evaluator #2'!I12,'Evaluator #3'!I12,'Evaluator #4'!I12,'Evaluator #5'!I12),0) -> 0 | Q10: =(P10/5*100)*($C$6/100) -> 0 | R10: =IFERROR(AVERAGE('Evaluator #1'!J12,'Evaluator #2'!J12,'Evaluator #3'!J12,'Evaluator #4'!J12,'Evaluator #5'!J12),0) -> 0 | S10: =(R10/5*100)*($C$6/100) -> 0 | T10: =IFERROR(AVERAGE('Evaluator #1'!K12,'Evaluator #2'!K12,'Evaluator #3'!K12,'Evaluator #4'!K12,'Evaluator #5'!K12),0) -> 0 | U10: =(T10/5*100)*($C$6/100) -> 0 | V10: =IFERROR(AVERAGE('Evaluator #1'!L12,'Evaluator #2'!L12,'Evaluator #3'!L12,'Evaluator #4'!L12,'Evaluator #5'!L12),0) -> 0 | W10: =(V10/5*100)*($C$6/100) -> 0
B11: Accessibility Coimpliance | C11: 5 | D11: =IFERROR(AVERAGE('Evaluator #1'!C13,'Evaluator #2'!C13,'Evaluator #3'!C13,'Evaluator #4'!C13,'Evaluator #5'!C13),0) -> 4 | E11: =(D11/5*100)*($C$6/100) -> 8 | F11: =IFERROR(AVERAGE('Evaluator #1'!D13,'Evaluator #2'!D13,'Evaluator #3'!D13,'Evaluator #4'!D13,'Evaluator #5'!D13),0) -> 4.2 | G11: =(F11/5*100)*($C$6/100) -> 8.4 | H11: =IFERROR(AVERAGE('Evaluator #1'!E13,'Evaluator #2'!E13,'Evaluator #3'!E13,'Evaluator #4'!E13,'Evaluator #5'!E13),0) -> 4 | I11: =(H11/5*100)*($C$6/100) -> 8 | J11: =IFERROR(AVERAGE('Evaluator #1'!F13,'Evaluator #2'!F13,'Evaluator #3'!F13,'Evaluator #4'!F13,'Evaluator #5'!F13),0) -> 3.8 | K11: =(J11/5*100)*($C$6/100) -> 7.6 | L11: =IFERROR(AVERAGE('Evaluator #1'!G13,'Evaluator #2'!G13,'Evaluator #3'!G13,'Evaluator #4'!G13,'Evaluator #5'!G13),0) -> 0 | M11: =(L11/5*100)*($C$6/100) -> 0 | N11: =IFERROR(AVERAGE('Evaluator #1'!H13,'Evaluator #2'!H13,'Evaluator #3'!H13,'Evaluator #4'!H13,'Evaluator #5'!H13),0) -> 0 | O11: =(N11/5*100)*($C$6/100) -> 0 | P11: =IFERROR(AVERAGE('Evaluator #1'!I13,'Evaluator #2'!I13,'Evaluator #3'!I13,'Evaluator #4'!I13,'Evaluator #5'!I13),0) -> 0 | Q11: =(P11/5*100)*($C$6/100) -> 0 | R11: =IFERROR(AVERAGE('Evaluator #1'!J13,'Evaluator #2'!J13,'Evaluator #3'!J13,'Evaluator #4'!J13,'Evaluator #5'!J13),0) -> 0 | S11: =(R11/5*100)*($C$6/100) -> 0 | T11: =IFERROR(AVERAGE('Evaluator #1'!K13,'Evaluator #2'!K13,'Evaluator #3'!K13,'Evaluator #4'!K13,'Evaluator #5'!K13),0) -> 0 | U11: =(T11/5*100)*($C$6/100) -> 0 | V11: =IFERROR(AVERAGE('Evaluator #1'!L13,'Evaluator #2'!L13,'Evaluator #3'!L13,'Evaluator #4'!L13,'Evaluator #5'!L13),0) -> 0 | W11: =(V11/5*100)*($C$6/100) -> 0
B12: Support and Services | C12: 10 | D12: =IFERROR(AVERAGE('Evaluator #1'!C14,'Evaluator #2'!C14,'Evaluator #3'!C14,'Evaluator #4'!C14,'Evaluator #5'!C14),0) -> 4.2 | E12: =(D12/5*100)*($C$6/100) -> 8.4 | F12: =IFERROR(AVERAGE('Evaluator #1'!D14,'Evaluator #2'!D14,'Evaluator #3'!D14,'Evaluator #4'!D14,'Evaluator #5'!D14),0) -> 4.4 | G12: =(F12/5*100)*($C$6/100) -> 8.8 | H12: =IFERROR(AVERAGE('Evaluator #1'!E14,'Evaluator #2'!E14,'Evaluator #3'!E14,'Evaluator #4'!E14,'Evaluator #5'!E14),0) -> 4 | I12: =(H12/5*100)*($C$6/100) -> 8 | J12: =IFERROR(AVERAGE('Evaluator #1'!F14,'Evaluator #2'!F14,'Evaluator #3'!F14,'Evaluator #4'!F14,'Evaluator #5'!F14),0) -> 3.2 | K12: =(J12/5*100)*($C$6/100) -> 6.4 | L12: =IFERROR(AVERAGE('Evaluator #1'!G14,'Evaluator #2'!G14,'Evaluator #3'!G14,'Evaluator #4'!G14,'Evaluator #5'!G14),0) -> 0 | M12: =(L12/5*100)*($C$6/100) -> 0 | N12: =IFERROR(AVERAGE('Evaluator #1'!H14,'Evaluator #2'!H14,'Evaluator #3'!H14,'Evaluator #4'!H14,'Evaluator #5'!H14),0) -> 0 | O12: =(N12/5*100)*($C$6/100) -> 0 | P12: =IFERROR(AVERAGE('Evaluator #1'!I14,'Evaluator #2'!I14,'Evaluator #3'!I14,'Evaluator #4'!I14,'Evaluator #5'!I14),0) -> 0 | Q12: =(P12/5*100)*($C$6/100) -> 0 | R12: =IFERROR(AVERAGE('Evaluator #1'!J14,'Evaluator #2'!J14,'Evaluator #3'!J14,'Evaluator #4'!J14,'Evaluator #5'!J14),0) -> 0 | S12: =(R12/5*100)*($C$6/100) -> 0 | T12: =IFERROR(AVERAGE('Evaluator #1'!K14,'Evaluator #2'!K14,'Evaluator #3'!K14,'Evaluator #4'!K14,'Evaluator #5'!K14),0) -> 0 | U12: =(T12/5*100)*($C$6/100) -> 0 | V12: =IFERROR(AVERAGE('Evaluator #1'!L14,'Evaluator #2'!L14,'Evaluator #3'!L14,'Evaluator #4'!L14,'Evaluator #5'!L14),0) -> 0 | W12: =(V12/5*100)*($C$6/100) -> 0
B13: Data Security and Privacy Protection | C13: 10 | D13: =IFERROR(AVERAGE('Evaluator #1'!C15,'Evaluator #2'!C15,'Evaluator #3'!C15,'Evaluator #4'!C15,'Evaluator #5'!C15),0) -> 3.8 | E13: =(D13/5*100)*($C$6/100) -> 7.6 | F13: =IFERROR(AVERAGE('Evaluator #1'!D15,'Evaluator #2'!D15,'Evaluator #3'!D15,'Evaluator #4'!D15,'Evaluator #5'!D15),0) -> 4.8 | G13: =(F13/5*100)*($C$6/100) -> 9.6 | H13: =IFERROR(AVERAGE('Evaluator #1'!E15,'Evaluator #2'!E15,'Evaluator #3'!E15,'Evaluator #4'!E15,'Evaluator #5'!E15),0) -> 4.2 | I13: =(H13/5*100)*($C$6/100) -> 8.4 | J13: =IFERROR(AVERAGE('Evaluator #1'!F15,'Evaluator #2'!F15,'Evaluator #3'!F15,'Evaluator #4'!F15,'Evaluator #5'!F15),0) -> 3.6 | K13: =(J13/5*100)*($C$6/100) -> 7.2 | L13: =IFERROR(AVERAGE('Evaluator #1'!G15,'Evaluator #2'!G15,'Evaluator #3'!G15,'Evaluator #4'!G15,'Evaluator #5'!G15),0) -> 0 | M13: =(L13/5*100)*($C$6/100) -> 0 | N13: =IFERROR(AVERAGE('Evaluator #1'!H15,'Evaluator #2'!H15,'Evaluator #3'!H15,'Evaluator #4'!H15,'Evaluator #5'!H15),0) -> 0 | O13: =(N13/5*100)*($C$6/100) -> 0 | P13: =IFERROR(AVERAGE('Evaluator #1'!I15,'Evaluator #2'!I15,'Evaluator #3'!I15,'Evaluator #4'!I15,'Evaluator #5'!I15),0) -> 0 | Q13: =(P13/5*100)*($C$6/100) -> 0 | R13: =IFERROR(AVERAGE('Evaluator #1'!J15,'Evaluator #2'!J15,'Evaluator #3'!J15,'Evaluator #4'!J15,'Evaluator #5'!J15),0) -> 0 | S13: =(R13/5*100)*($C$6/100) -> 0 | T13: =IFERROR(AVERAGE('Evaluator #1'!K15,'Evaluator #2'!K15,'Evaluator #3'!K15,'Evaluator #4'!K15,'Evaluator #5'!K15),0) -> 0 | U13: =(T13/5*100)*($C$6/100) -> 0 | V13: =IFERROR(AVERAGE('Evaluator #1'!L15,'Evaluator #2'!L15,'Evaluator #3'!L15,'Evaluator #4'!L15,'Evaluator #5'!L15),0) -> 0 | W13: =(V13/5*100)*($C$6/100) -> 0
B14: Environmental Plan | C14: 5 | D14: =IFERROR(AVERAGE('Evaluator #1'!C16,'Evaluator #2'!C16,'Evaluator #3'!C16,'Evaluator #4'!C16,'Evaluator #5'!C16),0) -> 3.6 | E14: =(D14/5*100)*($C$6/100) -> 7.2 | F14: =IFERROR(AVERAGE('Evaluator #1'!D16,'Evaluator #2'!D16,'Evaluator #3'!D16,'Evaluator #4'!D16,'Evaluator #5'!D16),0) -> 4.2 | G14: =(F14/5*100)*($C$6/100) -> 8.4 | H14: =IFERROR(AVERAGE('Evaluator #1'!E16,'Evaluator #2'!E16,'Evaluator #3'!E16,'Evaluator #4'!E16,'Evaluator #5'!E16),0) -> 3.8 | I14: =(H14/5*100)*($C$6/100) -> 7.6 | J14: =IFERROR(AVERAGE('Evaluator #1'!F16,'Evaluator #2'!F16,'Evaluator #3'!F16,'Evaluator #4'!F16,'Evaluator #5'!F16),0) -> 4.2 | K14: =(J14/5*100)*($C$6/100) -> 8.4 | L14: =IFERROR(AVERAGE('Evaluator #1'!G16,'Evaluator #2'!G16,'Evaluator #3'!G16,'Evaluator #4'!G16,'Evaluator #5'!G16),0) -> 0 | M14: =(L14/5*100)*($C$6/100) -> 0 | N14: =IFERROR(AVERAGE('Evaluator #1'!H16,'Evaluator #2'!H16,'Evaluator #3'!H16,'Evaluator #4'!H16,'Evaluator #5'!H16),0) -> 0 | O14: =(N14/5*100)*($C$6/100) -> 0 | P14: =IFERROR(AVERAGE('Evaluator #1'!I16,'Evaluator #2'!I16,'Evaluator #3'!I16,'Evaluator #4'!I16,'Evaluator #5'!I16),0) -> 0 | Q14: =(P14/5*100)*($C$6/100) -> 0 | R14: =IFERROR(AVERAGE('Evaluator #1'!J16,'Evaluator #2'!J16,'Evaluator #3'!J16,'Evaluator #4'!J16,'Evaluator #5'!J16),0) -> 0 | S14: =(R14/5*100)*($C$6/100) -> 0 | T14: =IFERROR(AVERAGE('Evaluator #1'!K16,'Evaluator #2'!K16,'Evaluator #3'!K16,'Evaluator #4'!K16,'Evaluator #5'!K16),0) -> 0 | U14: =(T14/5*100)*($C$6/100) -> 0 | V14: =IFERROR(AVERAGE('Evaluator #1'!L16,'Evaluator #2'!L16,'Evaluator #3'!L16,'Evaluator #4'!L16,'Evaluator #5'!L16),0) -> 0 | W14: =(V14/5*100)*($C$6/100) -> 0
B16: Total Score | D16: =SUM(D6:D14) -> 34.6 | E16: =SUM(E6:E14) -> 69.2 | F16: =SUM(F6:F14) -> 38.8 | G16: =SUM(G6:G14) -> 77.6 | H16: =SUM(H6:H14) -> 38.2 | I16: =SUM(I6:I14) -> 76.4 | J16: =SUM(J6:J14) -> 33.4 | K16: =SUM(K6:K14) -> 66.8 | ... W16: =SUM(W6:W14) -> 0
B18: Meets Threshold? | E18: =IF(E16>=Information!$E$11,"YES","NO") -> YES | G18: =IF(G16>=Information!$E$11,"YES","NO") -> YES | I18: =IF(I16>=Information!$E$11,"YES","NO") -> YES | K18: =IF(K16>=Information!$E$11,"YES","NO") -> YES | M18: =IF(M16>=Information!$E$11,"YES","NO") -> NO | O18: =IF(O16>=Information!$E$11,"YES","NO") -> NO | Q18: =IF(Q16>=Information!$E$11,"YES","NO") -> NO | S18: =IF(S16>=Information!$E$11,"YES","NO") -> NO | U18: =IF(U16>=Information!$E$11,"YES","NO") -> NO | W18: =IF(W16>=Information!$E$11,"YES","NO") -> NO

Sheet Evaluator #1
A1: RANIS Enterprise Solutions
A2: ERP Project Evaluation
A3: Date: | B3: Februrary 9, 2020
A5: Evaluator: | B5: Dennis Conner | C5: Bidder Name
C6: =Information!B14 -> Amtech Inc | D6: =Information!B15 -> MIT Consulting | E6: =Information!B16 -> Agile Co. | F6: =Information!B17 -> InfoTech Solutions | G6: =Information!B18 -> Company 5 | H6: =Information!B19 -> Company 6 | I6: =Information!B20 -> Company 7 | J6: =Information!B21 -> Company 8 | K6: =Information!B22 -> Company 9 | L6: =Information!B23 -> Company 10
A7: Category | B7: Evaluation Criteria | C7: Score (0 - 5) | D7: Score (0 - 5) | E7: Score (0 - 5) | F7: Score (0 - 5) | G7: Score (0 - 5) | H7: Score (0 - 5) | I7: Score (0 - 5) | J7: Score (0 - 5) | K7: Score (0 - 5) | L7: Score (0 - 5)
A8: Company | B8: Company Market Space, Reputation and Stability | C8: 4 | D8: 3 | E8: 5 | F8: 3
A9: Project Team | B9: Senior Professionals/ Project Manager/ Technical Staff | C9: 4 | D9: 4 | E9: 4 | F9: 3
B10: Experience on similar projects | C10: 4 | D10: 4 | E10: 5 | F10: 2
A11: Requirements | B11: Features and Technical Requirements (Functional and Non-Functional Requirements) | C11: 4 | D11: 5 | E11: 5 | F11: 3
B12: Use cases | C12: 4 | D12: 4 | E12: 5 | F12: 4
B13: Accessibility Coimpliance | C13: 2 | D13: 4 | E13: 4 | F13: 4
B14: Support and Services | C14: 5 | D14: 4 | E14: 4 | F14: 3
B15: Data Security and Privacy Protection | C15: 2 | D15: 5 | E15: 5 | F15: 3
B16: Environmental Plan | C16: 4 | D16: 2 | E16: 4 | F16: 4
A18: Total Score | C18: =SUM(C8:C16) -> 33 | D18: =SUM(D8:D16) -> 35 | E18: =SUM(E8:E16) -> 41 | F18: =SUM(F8:F16) -> 29 | G18: =SUM(G8:G16) -> 0 | H18: =SUM(H8:H16) -> 0 | I18: =SUM(I8:I16) -> 0 | J18: =SUM(J8:J16) -> 0 | ... L18: =SUM(L8:L16) -> 0

Sheet Evaluator #2
A1: RANIS Enterprise Solutions
A2: ERP Project Evaluation
A3: Date: | B3: February 9, 2020
A5: Evaluator: | B5: Ted Turner | C5: Bidder Name
C6: =Information!B14 -> Amtech Inc | D6: =Information!B15 -> MIT Consulting | E6: =Information!B16 -> Agile Co. | F6: =Information!B17 -> InfoTech Solutions | G6: =Information!B18 -> Company 5 | H6: =Information!B19 -> Company 6 | I6: =Information!B20 -> Company 7 | J6: =Information!B21 -> Company 8 | K6: =Information!B22 -> Company 9 | L6: =Information!B23 -> Company 10
A7: Category | B7: Evaluation Criteria | C7: Score (0 - 5) | D7: Score (0 - 5) | E7: Score (0 - 5) | F7: Score (0 - 5) | G7: Score (0 - 5) | H7: Score (0 - 5) | I7: Score (0 - 5) | J7: Score (0 - 5) | K7: Score (0 - 5) | L7: Score (0 - 5)
A8: Company | B8: Company Market Space, Reputation and Stability | C8: 4 | D8: 3 | E8: 4 | F8: 4
A9: Project Team | B9: Senior Professionals/ Project Manager/ Technical Staff | C9: 4 | D9: 5 | E9: 5 | F9: 4
B10: Experience on similar projects | C10: 4 | D10: 4 | E10: 5 | F10: 4
A11: Requirements | B11: Features and Technical Requirements (Functional and Non-Functional Requirements) | C11: 4 | D11: 4 | E11: 4 | F11: 4
B12: Use cases | C12: 5 | D12: 5 | E12: 4 | F12: 3
B13: Accessibility Coimpliance | C13: 4 | D13: 4 | E13: 5 | F13: 4
B14: Support and Services | C14: 3 | D14: 5 | E14: 4 | F14: 3
B15: Data Security and Privacy Protection | C15: 4 | D15: 4 | E15: 3 | F15: 4
B16: Environmental Plan | C16: 4 | D16: 5 | E16: 4 | F16: 4
A18: Total Score | C18: =SUM(C8:C16) -> 36 | D18: =SUM(D8:D16) -> 39 | E18: =SUM(E8:E16) -> 38 | F18: =SUM(F8:F16) -> 34 | G18: =SUM(G8:G16) -> 0 | H18: =SUM(H8:H16) -> 0 | I18: =SUM(I8:I16) -> 0 | J18: =SUM(J8:J16) -> 0 | ... L18: =SUM(L8:L16) -> 0

Sheet Evaluator #3
A1: RANIS Enterprise Solutions
A2: ERP Project Evaluation
A3: Date: | B3: February 9, 2020
A5: Evaluator: | B5: Russell Coutts | C5: Bidder Name
C6: =Information!B14 -> Amtech Inc | D6: =Information!B15 -> MIT Consulting | E6: =Information!B16 -> Agile Co. | F6: =Information!B17 -> InfoTech Solutions | G6: =Information!B18 -> Company 5 | H6: =Information!B19 -> Company 6 | I6: =Information!B20 -> Company 7 | J6: =Information!B21 -> Company 8 | K6: =Information!B22 -> Company 9 | L6: =Information!B23 -> Company 10
A7: Category | B7: Evaluation Criteria | C7: Score (0 - 5) | D7: Score (0 - 5) | E7: Score (0 - 5) | F7: Score (0 - 5) | G7: Score (0 - 5) | H7: Score (0 - 5) | I7: Score (0 - 5) | J7: Score (0 - 5) | K7: Score (0 - 5) | L7: Score (0 - 5)
A8: Company | B8: Company Market Space, Reputation and Stability | C8: 4 | D8: 3 | E8: 4 | F8: 4
A9: Project Team | B9: Senior Professionals/ Project Manager/ Technical Staff | C9: 3 | D9: 4 | E9: 5 | F9: 5
B10: Experience on similar projects | C10: 3 | D10: 4 | E10: 4 | F10: 3
A11: Requirements | B11: Features and Technical Requirements (Functional and Non-Functional Requirements) | C11: 3 | D11: 5 | E11: 5 | F11: 4
B12: Use cases | C12: 4 | D12: 4 | E12: 5 | F12: 4
B13: Accessibility Coimpliance | C13: 4 | D13: 5 | E13: 4 | F13: 4
B14: Support and Services | C14: 5 | D14: 3 | E14: 5 | F14: 4
B15: Data Security and Privacy Protection | C15: 4 | D15: 5 | E15: 4 | F15: 5
B16: Environmental Plan | C16: 3 | D16: 4 | E16: 4 | F16: 5
A18: Total Score | C18: =SUM(C8:C16) -> 33 | D18: =SUM(D8:D16) -> 37 | E18: =SUM(E8:E16) -> 40 | F18: =SUM(F8:F16) -> 38 | G18: =SUM(G8:G16) -> 0 | H18: =SUM(H8:H16) -> 0 | I18: =SUM(I8:I16) -> 0 | J18: =SUM(J8:J16) -> 0 | ... L18: =SUM(L8:L16) -> 0

Sheet Evaluator #4
A1: RANIS Enterprise Solutions
A2: ERP Project Evaluation
A3: Date: | B3: February 9, 2020
A5: Evaluator: | B5: Paige Railey | C5: Bidder Name
C6: =Information!B14 -> Amtech Inc | D6: =Information!B15 -> MIT Consulting | E6: =Information!B16 -> Agile Co. | F6: =Information!B17 -> InfoTech Solutions | G6: =Information!B18 -> Company 5 | H6: =Information!B19 -> Company 6 | I6: =Information!B20 -> Company 7 | J6: =Information!B21 -> Company 8 | K6: =Information!B22 -> Company 9 | L6: =Information!B23 -> Company 10
A7: Category | B7: Evaluation Criteria | C7: Score (0 - 5) | D7: Score (0 - 5) | E7: Score (0 - 5) | F7: Score (0 - 5) | G7: Score (0 - 5) | H7: Score (0 - 5) | I7: Score (0 - 5) | J7: Score (0 - 5) | K7: Score (0 - 5) | L7: Score (0 - 5)
A8: Company | B8: Company Market Space, Reputation and Stability | C8: 4 | D8: 4 | E8: 3 | F8: 4
A9: Project Team | B9: Senior Professionals/ Project Manager/ Technical Staff | C9: 4 | D9: 4 | E9: 4 | F9: 3
B10: Experience on similar projects | C10: 4 | D10: 5 | E10: 4 | F10: 4
A11: Requirements | B11: Features and Technical Requirements (Functional and Non-Functional Requirements) | C11: 4 | D11: 5 | E11: 3 | F11: 4
B12: Use cases | C12: 3 | D12: 4 | E12: 5 | F12: 3
B13: Accessibility Coimpliance | C13: 5 | D13: 4 | E13: 4 | F13: 4
B14: Support and Services | C14: 3 | D14: 5 | E14: 3 | F14: 3
B15: Data Security and Privacy Protection | C15: 4 | D15: 5 | E15: 4 | F15: 3
B16: Environmental Plan | C16: 3 | D16: 5 | E16: 3 | F16: 3
A18: Total Score | C18: =SUM(C8:C16) -> 34 | D18: =SUM(D8:D16) -> 41 | E18: =SUM(E8:E16) -> 33 | F18: =SUM(F8:F16) -> 31 | G18: =SUM(G8:G16) -> 0 | H18: =SUM(H8:H16) -> 0 | I18: =SUM(I8:I16) -> 0 | J18: =SUM(J8:J16) -> 0 | ... L18: =SUM(L8:L16) -> 0

Sheet Evaluator #5
A1: RANIS Enterprise Solutions
A2: ERP Project Evaluation
A3: Date: | B3: February 9, 2020
A5: Evaluator: | B5: Ellen McArthur | C5: Bidder Name
C6: =Information!B14 -> Amtech Inc | D6: =Information!B15 -> MIT Consulting | E6: =Information!B16 -> Agile Co. | F6: =Information!B17 -> InfoTech Solutions | G6: =Information!B18 -> Company 5 | H6: =Information!B19 -> Company 6 | I6: =Information!B20 -> Company 7 | J6: =Information!B21 -> Company 8 | K6: =Information!B22 -> Company 9 | L6: =Information!B23 -> Company 10
A7: Category | B7: Evaluation Criteria | C7: Score (0 - 5) | D7: Score (0 - 5) | E7: Score (0 - 5) | F7: Score (0 - 5) | G7: Score (0 - 5) | H7: Score (0 - 5) | I7: Score (0 - 5) | J7: Score (0 - 5) | K7: Score (0 - 5) | L7: Score (0 - 5)
A8: Company | B8: Company Market Space, Reputation and Stability | C8: 4 | D8: 5 | E8: 5 | F8: 5
A9: Project Team | B9: Senior Professionals/ Project Manager/ Technical Staff | C9: 3 | D9: 4 | E9: 5 | F9: 4
B10: Experience on similar projects | C10: 3 | D10: 5 | E10: 4 | F10: 4
A11: Requirements | B11: Features and Technical Requirements (Functional and Non-Functional Requirements) | C11: 4 | D11: 5 | E11: 4 | F11: 4
B12: Use cases | C12: 4 | D12: 4 | E12: 5 | F12: 4
B13: Accessibility Coimpliance | C13: 5 | D13: 4 | E13: 3 | F13: 3
B14: Support and Services | C14: 5 | D14: 5 | E14: 4 | F14: 3
B15: Data Security and Privacy Protection | C15: 5 | D15: 5 | E15: 5 | F15: 3
B16: Environmental Plan | C16: 4 | D16: 5 | E16: 4 | F16: 5
A18: Total Score | C18: =SUM(C8:C16) -> 37 | D18: =SUM(D8:D16) -> 42 | E18: =SUM(E8:E16) -> 39 | F18: =SUM(F8:F16) -> 35 | G18: =SUM(G8:G16) -> 0 | H18: =SUM(H8:H16) -> 0 | I18: =SUM(I8:I16) -> 0 | J18: =SUM(J8:J16) -> 0 | ... L18: =SUM(L8:L16) -> 0
